BEGIN:VCALENDAR
VERSION:2.0
PRODID:-//Grundschule Dagersheim - ECPv6.15.20//NONSGML v1.0//EN
CALSCALE:GREGORIAN
METHOD:PUBLISH
X-ORIGINAL-URL:https://grundschule-dagersheim.de
X-WR-CALDESC:Veranstaltungen für Grundschule Dagersheim
REFRESH-INTERVAL;VALUE=DURATION:PT1H
X-Robots-Tag:noindex
X-PUBLISHED-TTL:PT1H
BEGIN:VTIMEZONE
TZID:UTC
BEGIN:STANDARD
TZOFFSETFROM:+0000
TZOFFSETTO:+0000
TZNAME:UTC
DTSTART:20250101T000000
END:STANDARD
END:VTIMEZONE
BEGIN:VEVENT
DTSTART;VALUE=DATE:20260715
DTEND;VALUE=DATE:20260716
DTSTAMP:20260424T123713
CREATED:20260109T172704Z
LAST-MODIFIED:20260109T172704Z
UID:1741-1784073600-1784159999@grundschule-dagersheim.de
SUMMARY:Lesewettbewerb Klasse 2 und 3
DESCRIPTION:
URL:https://grundschule-dagersheim.de/event/lesewettbewerb-klasse-2-und-3/
END:VEVENT
END:VCALENDAR