BEGIN:VCALENDAR
VERSION:2.0
PRODID:-//Grundschule Dagersheim - ECPv6.15.20//NONSGML v1.0//EN
CALSCALE:GREGORIAN
METHOD:PUBLISH
X-ORIGINAL-URL:https://grundschule-dagersheim.de
X-WR-CALDESC:Veranstaltungen für Grundschule Dagersheim
REFRESH-INTERVAL;VALUE=DURATION:PT1H
X-Robots-Tag:noindex
X-PUBLISHED-TTL:PT1H
BEGIN:VTIMEZONE
TZID:UTC
BEGIN:STANDARD
TZOFFSETFROM:+0000
TZOFFSETTO:+0000
TZNAME:UTC
DTSTART:20220101T000000
END:STANDARD
END:VTIMEZONE
BEGIN:VEVENT
DTSTART;TZID=UTC:20260415T183000
DTEND;TZID=UTC:20260415T200000
DTSTAMP:20260422T085821
CREATED:20260316T140551Z
LAST-MODIFIED:20260316T140551Z
UID:1782-1776277800-1776283200@grundschule-dagersheim.de
SUMMARY:Elternabend Klasse 3
DESCRIPTION:— Angaben ohne Gewähr —
URL:https://grundschule-dagersheim.de/event/elternabend-klasse-3-4/
LOCATION:Klassenzimmer
END:VEVENT
BEGIN:VEVENT
DTSTART;VALUE=DATE:20260330
DTEND;VALUE=DATE:20260413
DTSTAMP:20260422T085821
CREATED:20260326T133259Z
LAST-MODIFIED:20260326T133259Z
UID:1803-1774828800-1776038399@grundschule-dagersheim.de
SUMMARY:Osterferien
DESCRIPTION:— Angaben ohne Gewähr —
URL:https://grundschule-dagersheim.de/event/osterferien-2/
END:VEVENT
BEGIN:VEVENT
DTSTART;TZID=UTC:20260324T170000
DTEND;TZID=UTC:20260324T190000
DTSTAMP:20260422T085821
CREATED:20260316T140643Z
LAST-MODIFIED:20260316T140643Z
UID:1785-1774371600-1774378800@grundschule-dagersheim.de
SUMMARY:Elternabend Klasse 4
DESCRIPTION:— Angaben ohne Gewähr —
URL:https://grundschule-dagersheim.de/event/elternabend-klasse-4-4/
LOCATION:Klassenzimmer
END:VEVENT
BEGIN:VEVENT
DTSTART;TZID=UTC:20260317T190000
DTEND;TZID=UTC:20260317T210000
DTSTAMP:20260422T085821
CREATED:20260316T140338Z
LAST-MODIFIED:20260316T140338Z
UID:1776-1773774000-1773781200@grundschule-dagersheim.de
SUMMARY:Elternabend Klasse 1
DESCRIPTION:–Angaben ohne Gewähr–
URL:https://grundschule-dagersheim.de/event/elternabend-klasse-1-5/
LOCATION:Klassenzimmer
END:VEVENT
BEGIN:VEVENT
DTSTART;TZID=UTC:20260316T170000
DTEND;TZID=UTC:20260316T200000
DTSTAMP:20260422T085821
CREATED:20260316T140439Z
LAST-MODIFIED:20260316T140439Z
UID:1779-1773680400-1773691200@grundschule-dagersheim.de
SUMMARY:Elternabend Klasse 2
DESCRIPTION:— Angaben ohne Gewähr–  \n18:30 Uhr  (Vorstellung Bläserklasse)
URL:https://grundschule-dagersheim.de/event/elternabend-klasse-2-4/
LOCATION:Klassenzimmer
END:VEVENT
BEGIN:VEVENT
DTSTART;VALUE=DATE:20260224
DTEND;VALUE=DATE:20260225
DTSTAMP:20260422T085821
CREATED:20260109T172615Z
LAST-MODIFIED:20260109T172615Z
UID:1738-1771891200-1771977599@grundschule-dagersheim.de
SUMMARY:Schulanmeldung für künftige Erstklässler
DESCRIPTION:
URL:https://grundschule-dagersheim.de/event/schulanmeldung-fuer-kuenftige-erstklaessler/
END:VEVENT
BEGIN:VEVENT
DTSTART;VALUE=DATE:20260206
DTEND;VALUE=DATE:20260207
DTSTAMP:20260422T085821
CREATED:20260109T082402Z
LAST-MODIFIED:20260109T082402Z
UID:1733-1770336000-1770422399@grundschule-dagersheim.de
SUMMARY:Ausgabe Halbjahresinformation
DESCRIPTION:Die späteste Abmeldung für den Religionsunterricht ist der 20.02.
URL:https://grundschule-dagersheim.de/event/ausgabe-halbjahresinformation/
END:VEVENT
BEGIN:VEVENT
DTSTART;TZID=UTC:20260112T180000
DTEND;TZID=UTC:20260112T200000
DTSTAMP:20260422T085821
CREATED:20260109T173001Z
LAST-MODIFIED:20260112T092702Z
UID:1747-1768240800-1768248000@grundschule-dagersheim.de
SUMMARY:Gernzeit Infoabend
DESCRIPTION:  \n 
URL:https://grundschule-dagersheim.de/event/gernzeit-infoabend/
END:VEVENT
BEGIN:VEVENT
DTSTART;TZID=UTC:20240911T084500
DTEND;TZID=UTC:20240911T121000
DTSTAMP:20260422T085821
CREATED:20231210T173552Z
LAST-MODIFIED:20231210T173552Z
UID:1352-1726044300-1726056600@grundschule-dagersheim.de
SUMMARY:1. Schultag für die neuen Schulanfänger mit ökumenischem Gottesdienst
DESCRIPTION:
URL:https://grundschule-dagersheim.de/event/1-schultag-fuer-die-neuen-schulanfaenger-mit-oekumenischem-gottesdienst/
END:VEVENT
BEGIN:VEVENT
DTSTART;TZID=UTC:20240909T190000
DTEND;TZID=UTC:20240909T200000
DTSTAMP:20260422T085821
CREATED:20231210T173729Z
LAST-MODIFIED:20231210T173729Z
UID:1355-1725908400-1725912000@grundschule-dagersheim.de
SUMMARY:Elternabend der neuen Erstklässler mit der Klassenlehrerin
DESCRIPTION:
URL:https://grundschule-dagersheim.de/event/elternabend-der-neuen-erstklaessler-mit-der-klassenlehrerin/
END:VEVENT
BEGIN:VEVENT
DTSTART;TZID=UTC:20240716T080000
DTEND;TZID=UTC:20240716T130000
DTSTAMP:20260422T085821
CREATED:20240414T191546Z
LAST-MODIFIED:20240414T191546Z
UID:1473-1721116800-1721134800@grundschule-dagersheim.de
SUMMARY:Radhelden der Grundschule Dagersheim
DESCRIPTION:Spaß haben\, Balance lernen\, Sicherheit geben: Die Jungen RadHelden werden an dem Fahrradaktionstag in einem abwechslungsreichen Parcours spielerisch an den sicheren und versierten Umgang mit dem Fahrrad herangeführt.\nZiel: Die motorischen Fähigkeiten der Kinder stärken\, den Grundstein für sichere Mobilität im Alltag legen und untermauern. Dabei sammeln die Kinder eigene Bewegungserfahrungen\, lernen Regeln einzuhalten und aufeinander Acht zu geben. \nJedes Kind bringt sein eigenes Fahrrad plus Helm mit. \n  \nQuelle: Radhelden.club | Projektbeschreibung & Anmeldung
URL:https://grundschule-dagersheim.de/event/radhelden-der-grundschule-dagersheim/
END:VEVENT
BEGIN:VEVENT
DTSTART;TZID=UTC:20240710T200000
DTEND;TZID=UTC:20240710T210000
DTSTAMP:20260422T085821
CREATED:20240305T061944Z
LAST-MODIFIED:20240305T061944Z
UID:1451-1720641600-1720645200@grundschule-dagersheim.de
SUMMARY:Schulkonferenz
DESCRIPTION:
URL:https://grundschule-dagersheim.de/event/schulkonferenz-3/
END:VEVENT
BEGIN:VEVENT
DTSTART;VALUE=DATE:20240626
DTEND;VALUE=DATE:20240627
DTSTAMP:20260422T085821
CREATED:20230910T204017Z
LAST-MODIFIED:20230910T204017Z
UID:1277-1719360000-1719446399@grundschule-dagersheim.de
SUMMARY:Sporttag Ausweichtermin
DESCRIPTION:
URL:https://grundschule-dagersheim.de/event/sporttag-ausweichtermin/
END:VEVENT
BEGIN:VEVENT
DTSTART;VALUE=DATE:20240619
DTEND;VALUE=DATE:20240620
DTSTAMP:20260422T085821
CREATED:20230910T203930Z
LAST-MODIFIED:20230910T203930Z
UID:1274-1718755200-1718841599@grundschule-dagersheim.de
SUMMARY:Sporttag
DESCRIPTION:
URL:https://grundschule-dagersheim.de/event/sporttag/
END:VEVENT
BEGIN:VEVENT
DTSTART;TZID=UTC:20240606T080000
DTEND;TZID=UTC:20240606T100000
DTSTAMP:20260422T085821
CREATED:20240606T111402Z
LAST-MODIFIED:20240606T111402Z
UID:1546-1717660800-1717668000@grundschule-dagersheim.de
SUMMARY:Lesewettbewerb der Klassen 2 und 3
DESCRIPTION:
URL:https://grundschule-dagersheim.de/event/lesewettbewerb-der-klassen-2-und-3/
END:VEVENT
BEGIN:VEVENT
DTSTART;TZID=UTC:20240515T080000
DTEND;TZID=UTC:20240515T123000
DTSTAMP:20260422T085821
CREATED:20240414T191204Z
LAST-MODIFIED:20240414T191204Z
UID:1469-1715760000-1715776200@grundschule-dagersheim.de
SUMMARY:Sponsorenlauf
DESCRIPTION:Der Gewinn geht an ….
URL:https://grundschule-dagersheim.de/event/sponsorenlauf/
END:VEVENT
BEGIN:VEVENT
DTSTART;TZID=UTC:20240514T200000
DTEND;TZID=UTC:20240514T210000
DTSTAMP:20260422T085821
CREATED:20240305T062023Z
LAST-MODIFIED:20240305T062023Z
UID:1454-1715716800-1715720400@grundschule-dagersheim.de
SUMMARY:Elternbeiratssitzung
DESCRIPTION:
URL:https://grundschule-dagersheim.de/event/elternbeiratssitzung-2/
END:VEVENT
BEGIN:VEVENT
DTSTART;VALUE=DATE:20240424
DTEND;VALUE=DATE:20240425
DTSTAMP:20260422T085821
CREATED:20230910T204153Z
LAST-MODIFIED:20230910T204153Z
UID:1286-1713916800-1714003199@grundschule-dagersheim.de
SUMMARY:Vera Klasse 3 Mathe
DESCRIPTION:
URL:https://grundschule-dagersheim.de/event/vera-klasse-3-mathe/
END:VEVENT
BEGIN:VEVENT
DTSTART;TZID=UTC:20240422T080000
DTEND;TZID=UTC:20240422T100000
DTSTAMP:20260422T085821
CREATED:20240414T191015Z
LAST-MODIFIED:20240414T191235Z
UID:1466-1713772800-1713780000@grundschule-dagersheim.de
SUMMARY:Känguruwettbewerb Klassen 3 und 4
DESCRIPTION:
URL:https://grundschule-dagersheim.de/event/kaenguruwettbewerb-klassen-3-und-4/
END:VEVENT
BEGIN:VEVENT
DTSTART;VALUE=DATE:20240418
DTEND;VALUE=DATE:20240419
DTSTAMP:20260422T085821
CREATED:20230910T204127Z
LAST-MODIFIED:20230910T204127Z
UID:1283-1713398400-1713484799@grundschule-dagersheim.de
SUMMARY:Vera Klasse 3 Deutsch 2. Kompetenzbereich
DESCRIPTION:
URL:https://grundschule-dagersheim.de/event/vera-klasse-3-deutsch-2-kompetenzbereich/
END:VEVENT
BEGIN:VEVENT
DTSTART;TZID=UTC:20240417T190000
DTEND;TZID=UTC:20240417T200000
DTSTAMP:20260422T085821
CREATED:20240305T061707Z
LAST-MODIFIED:20240305T061707Z
UID:1442-1713380400-1713384000@grundschule-dagersheim.de
SUMMARY:Elternabend Klasse 3
DESCRIPTION:
URL:https://grundschule-dagersheim.de/event/elternabend-klasse-3-3/
END:VEVENT
BEGIN:VEVENT
DTSTART;VALUE=DATE:20240416
DTEND;VALUE=DATE:20240417
DTSTAMP:20260422T085821
CREATED:20230910T204052Z
LAST-MODIFIED:20230910T204052Z
UID:1280-1713225600-1713311999@grundschule-dagersheim.de
SUMMARY:Vera Klasse 3 Deutsch
DESCRIPTION:
URL:https://grundschule-dagersheim.de/event/vera-klasse-3-deutsch/
END:VEVENT
BEGIN:VEVENT
DTSTART;TZID=UTC:20240409T190000
DTEND;TZID=UTC:20240409T200000
DTSTAMP:20260422T085821
CREATED:20240305T061623Z
LAST-MODIFIED:20240305T061623Z
UID:1439-1712689200-1712692800@grundschule-dagersheim.de
SUMMARY:Elternabend Klasse 2
DESCRIPTION:
URL:https://grundschule-dagersheim.de/event/elternabend-klasse-2-3/
END:VEVENT
BEGIN:VEVENT
DTSTART;TZID=UTC:20240320T190000
DTEND;TZID=UTC:20240320T200000
DTSTAMP:20260422T085821
CREATED:20240305T061500Z
LAST-MODIFIED:20240305T061500Z
UID:1435-1710961200-1710964800@grundschule-dagersheim.de
SUMMARY:Elternabend Klasse 1
DESCRIPTION:
URL:https://grundschule-dagersheim.de/event/elternabend-klasse-1-4/
END:VEVENT
BEGIN:VEVENT
DTSTART;TZID=UTC:20240313T183000
DTEND;TZID=UTC:20240313T193000
DTSTAMP:20260422T085821
CREATED:20240305T061841Z
LAST-MODIFIED:20240305T061841Z
UID:1448-1710354600-1710358200@grundschule-dagersheim.de
SUMMARY:Elternabend Klasse 4c
DESCRIPTION:
URL:https://grundschule-dagersheim.de/event/elternabend-klasse-4c/
END:VEVENT
BEGIN:VEVENT
DTSTART;TZID=UTC:20240306T183000
DTEND;TZID=UTC:20240306T193000
DTSTAMP:20260422T085821
CREATED:20240305T061800Z
LAST-MODIFIED:20240305T061800Z
UID:1445-1709749800-1709753400@grundschule-dagersheim.de
SUMMARY:Elternabend Klasse 4a und 4b
DESCRIPTION:
URL:https://grundschule-dagersheim.de/event/elternabend-klasse-4a-und-4b/
END:VEVENT
BEGIN:VEVENT
DTSTART;TZID=UTC:20240305T073000
DTEND;TZID=UTC:20240305T160000
DTSTAMP:20260422T085821
CREATED:20231210T173330Z
LAST-MODIFIED:20231210T173330Z
UID:1349-1709623800-1709654400@grundschule-dagersheim.de
SUMMARY:Schulanmeldung
DESCRIPTION:
URL:https://grundschule-dagersheim.de/event/schulanmeldung/
END:VEVENT
BEGIN:VEVENT
DTSTART;VALUE=DATE:20240207
DTEND;VALUE=DATE:20240208
DTSTAMP:20260422T085821
CREATED:20230912T131824Z
LAST-MODIFIED:20230912T131927Z
UID:1298-1707264000-1707350399@grundschule-dagersheim.de
SUMMARY:Halbjahresinformationen
DESCRIPTION:
URL:https://grundschule-dagersheim.de/event/halbjahresinformationen-2/
END:VEVENT
BEGIN:VEVENT
DTSTART;TZID=UTC:20231220T190000
DTEND;TZID=UTC:20231220T200000
DTSTAMP:20260422T085821
CREATED:20231210T173216Z
LAST-MODIFIED:20231210T173216Z
UID:1346-1703098800-1703102400@grundschule-dagersheim.de
SUMMARY:Elternabend Schulanfänger
DESCRIPTION:
URL:https://grundschule-dagersheim.de/event/elternabend-schulanfaenger/
END:VEVENT
BEGIN:VEVENT
DTSTART;TZID=UTC:20231109T200000
DTEND;TZID=UTC:20231109T210000
DTSTAMP:20260422T085821
CREATED:20230910T203900Z
LAST-MODIFIED:20231109T133621Z
UID:1270-1699560000-1699563600@grundschule-dagersheim.de
SUMMARY:Schulkonferenz
DESCRIPTION:
URL:https://grundschule-dagersheim.de/event/schulkonferenz-2/
END:VEVENT
END:VCALENDAR