BEGIN:VCALENDAR
VERSION:2.0
PRODID:-//Grundschule Dagersheim - ECPv6.15.20//NONSGML v1.0//EN
CALSCALE:GREGORIAN
METHOD:PUBLISH
X-WR-CALNAME:Grundschule Dagersheim
X-ORIGINAL-URL:https://grundschule-dagersheim.de
X-WR-CALDESC:Veranstaltungen für Grundschule Dagersheim
REFRESH-INTERVAL;VALUE=DURATION:PT1H
X-Robots-Tag:noindex
X-PUBLISHED-TTL:PT1H
BEGIN:VTIMEZONE
TZID:UTC
BEGIN:STANDARD
TZOFFSETFROM:+0000
TZOFFSETTO:+0000
TZNAME:UTC
DTSTART:20250101T000000
END:STANDARD
END:VTIMEZONE
BEGIN:VEVENT
DTSTART;VALUE=DATE:20260624
DTEND;VALUE=DATE:20260625
DTSTAMP:20260422T104543
CREATED:20260109T172809Z
LAST-MODIFIED:20260109T172809Z
UID:1744-1782259200-1782345599@grundschule-dagersheim.de
SUMMARY:Sporttag
DESCRIPTION:Der Ausweichtermin für den Sporttag ist der 01.07.2026
URL:https://grundschule-dagersheim.de/event/sporttag-2/
END:VEVENT
END:VCALENDAR